BEGIN:VCALENDAR
VERSION:2.0
PRODID:-//Christophe Rouhaud - ECPv6.15.20//NONSGML v1.0//EN
CALSCALE:GREGORIAN
METHOD:PUBLISH
X-WR-CALNAME:Christophe Rouhaud
X-ORIGINAL-URL:https://christopherouhaud.com
X-WR-CALDESC:Évènements pour Christophe Rouhaud
REFRESH-INTERVAL;VALUE=DURATION:PT1H
X-Robots-Tag:noindex
X-PUBLISHED-TTL:PT1H
BEGIN:VTIMEZONE
TZID:Europe/Paris
BEGIN:DAYLIGHT
TZOFFSETFROM:+0100
TZOFFSETTO:+0200
TZNAME:CEST
DTSTART:20250330T010000
END:DAYLIGHT
BEGIN:STANDARD
TZOFFSETFROM:+0200
TZOFFSETTO:+0100
TZNAME:CET
DTSTART:20251026T010000
END:STANDARD
BEGIN:DAYLIGHT
TZOFFSETFROM:+0100
TZOFFSETTO:+0200
TZNAME:CEST
DTSTART:20260329T010000
END:DAYLIGHT
BEGIN:STANDARD
TZOFFSETFROM:+0200
TZOFFSETTO:+0100
TZNAME:CET
DTSTART:20261025T010000
END:STANDARD
BEGIN:DAYLIGHT
TZOFFSETFROM:+0100
TZOFFSETTO:+0200
TZNAME:CEST
DTSTART:20270328T010000
END:DAYLIGHT
BEGIN:STANDARD
TZOFFSETFROM:+0200
TZOFFSETTO:+0100
TZNAME:CET
DTSTART:20271031T010000
END:STANDARD
END:VTIMEZONE
BEGIN:VEVENT
DTSTART;TZID=Europe/Paris:20260429T200000
DTEND;TZID=Europe/Paris:20260429T213000
DTSTAMP:20260424T152855
CREATED:20260424T071838Z
LAST-MODIFIED:20260424T071838Z
UID:29334-1777492800-1777498200@christopherouhaud.com
SUMMARY:Visioconférence : Comprendre et libérer vos blocages profonds
DESCRIPTION:Visioconférence le 29 avril 2026 à 20h sur Zoom\n  \nL’impact sur le corps – comment une information vibratoire finit-elle par se manifester dans la matière (le corps physique).\nLe corps physique est souvent le dernier messager d’un déséquilibre qui prend racine bien plus haut\, dans nos énergies et nos corps subtils. \nVous arrive-t-il de ressentir des blocages récurrents\, des tensions ou une fatigue que vous n’expliquez pas ? Pour avancer\, il ne suffit pas toujours de vouloir guérir ; il faut d’abord comprendre le mécanisme. \nCe que nous allons explorer ensemble : \nLa genèse de l’énergie : Comment nous la créons et comment elle circule. \nLe chemin de la libération : Quelles sont les solutions concrètes pour dénouer ces processus ? Vers quels types d’aide se tourner ? \nImportant : Ce moment est une conférence pédagogique. Mon but est de vous donner les clés pour décoder ce qui se joue en vous\, afin que vous sachiez comment agir et vers qui vous tourner pour être accompagné efficacement. \n  \nRéserver votre place
URL:https://christopherouhaud.com/evenement/visioconference-comprendre-et-liberer-vos-blocages-profonds/
LOCATION:Zoom (visioconférence)
CATEGORIES:Conférence,WEBINAIRES
ATTACH;FMTTYPE=image/jpeg:https://christopherouhaud.com/wp-content/uploads/2026/04/Image-conference-comprendre-et-liberer-vos-blocages-profonds-scaled.jpg
END:VEVENT
END:VCALENDAR