BEGIN:VCALENDAR
VERSION:2.0
PRODID:-//Christophe Rouhaud - ECPv6.15.20//NONSGML v1.0//EN
CALSCALE:GREGORIAN
METHOD:PUBLISH
X-ORIGINAL-URL:https://christopherouhaud.com
X-WR-CALDESC:Évènements pour Christophe Rouhaud
REFRESH-INTERVAL;VALUE=DURATION:PT1H
X-Robots-Tag:noindex
X-PUBLISHED-TTL:PT1H
BEGIN:VTIMEZONE
TZID:Europe/Paris
BEGIN:DAYLIGHT
TZOFFSETFROM:+0100
TZOFFSETTO:+0200
TZNAME:CEST
DTSTART:20240331T010000
END:DAYLIGHT
BEGIN:STANDARD
TZOFFSETFROM:+0200
TZOFFSETTO:+0100
TZNAME:CET
DTSTART:20241027T010000
END:STANDARD
BEGIN:DAYLIGHT
TZOFFSETFROM:+0100
TZOFFSETTO:+0200
TZNAME:CEST
DTSTART:20250330T010000
END:DAYLIGHT
BEGIN:STANDARD
TZOFFSETFROM:+0200
TZOFFSETTO:+0100
TZNAME:CET
DTSTART:20251026T010000
END:STANDARD
BEGIN:DAYLIGHT
TZOFFSETFROM:+0100
TZOFFSETTO:+0200
TZNAME:CEST
DTSTART:20260329T010000
END:DAYLIGHT
BEGIN:STANDARD
TZOFFSETFROM:+0200
TZOFFSETTO:+0100
TZNAME:CET
DTSTART:20261025T010000
END:STANDARD
END:VTIMEZONE
BEGIN:VEVENT
DTSTART;TZID=Europe/Paris:20250516T161600
DTEND;TZID=Europe/Paris:20250516T161600
DTSTAMP:20260420T001948
CREATED:20250403T071008Z
LAST-MODIFIED:20250516T161659Z
UID:25147-1747412160-1747412160@christopherouhaud.com
SUMMARY:Comment se Protéger\, se Purifier\, et Utiliser les Différents Supports
DESCRIPTION:Participez à une séance collective de soin énergétique pour libérer les tensions\, apaiser le mental et vous reconnecter à votre lumière intérieure. \nCet événement est ouvert à tous\, accessible à distance\, et idéal pour découvrir l’approche intuitive de Christophe Rouhaud.
URL:https://christopherouhaud.com/evenement/comment-se-proteger-se-purifier-et-utiliser-les-differents-supports/
ATTACH;FMTTYPE=image/webp:https://christopherouhaud.com/wp-content/uploads/2025/04/Atelier-Academie-nouvelle-vie.webp
END:VEVENT
END:VCALENDAR